BEGIN:VCALENDAR
VERSION:2.0
PRODID:-//Fotoclube Paraty - ECPv6.15.20//NONSGML v1.0//EN
CALSCALE:GREGORIAN
METHOD:PUBLISH
X-WR-CALNAME:Fotoclube Paraty
X-ORIGINAL-URL:https://fotoclubeparaty.com
X-WR-CALDESC:Eventos para Fotoclube Paraty
REFRESH-INTERVAL;VALUE=DURATION:PT1H
X-Robots-Tag:noindex
X-PUBLISHED-TTL:PT1H
BEGIN:VTIMEZONE
TZID:America/Sao_Paulo
BEGIN:STANDARD
TZOFFSETFROM:-0300
TZOFFSETTO:-0300
TZNAME:-03
DTSTART:20230101T000000
END:STANDARD
END:VTIMEZONE
BEGIN:VEVENT
DTSTART;TZID=America/Sao_Paulo:20240224T190000
DTEND;TZID=America/Sao_Paulo:20240224T210000
DTSTAMP:20260422T020421
CREATED:20231209T204210Z
LAST-MODIFIED:20231209T205225Z
UID:1085-1708801200-1708808400@fotoclubeparaty.com
SUMMARY:5ª Reunião do Fotoclube Paraty - 24/02/2024
DESCRIPTION:A quinta reunião do Fotoclube Paraty acontecerá no dia 24 de fevereiro. O evento é gratuito! Sejam todos bem vindos!
URL:https://fotoclubeparaty.com/event/5a-reuniao-do-fotoclube-paraty-verao-24-02-2024/
LOCATION:Café Café\, Rua Comendador José Luiz\, 3\, Paraty\, Rio de Janeiro\, 23970-000\, Brasil
CATEGORIES:Encontros Mensais
ATTACH;FMTTYPE=image/png:https://fotoclubeparaty.com/wp-content/uploads/2023/12/Logo-Timbrado.png
ORGANIZER;CN="Fotos Incr%C3%ADveis":MAILTO:fotoclubeparatyoficial@gmail.com
END:VEVENT
END:VCALENDAR