BEGIN:VCALENDAR
VERSION:2.0
PRODID:-//Fotoclube Paraty - ECPv6.15.20//NONSGML v1.0//EN
CALSCALE:GREGORIAN
METHOD:PUBLISH
X-ORIGINAL-URL:https://fotoclubeparaty.com
X-WR-CALDESC:Eventos para Fotoclube Paraty
REFRESH-INTERVAL;VALUE=DURATION:PT1H
X-Robots-Tag:noindex
X-PUBLISHED-TTL:PT1H
BEGIN:VTIMEZONE
TZID:America/Sao_Paulo
BEGIN:STANDARD
TZOFFSETFROM:-0300
TZOFFSETTO:-0300
TZNAME:-03
DTSTART:20220101T000000
END:STANDARD
END:VTIMEZONE
BEGIN:VEVENT
DTSTART;TZID=America/Sao_Paulo:20231111T190000
DTEND;TZID=America/Sao_Paulo:20231111T210000
DTSTAMP:20260422T074652
CREATED:20231014T004204Z
LAST-MODIFIED:20231107T180744Z
UID:225-1699729200-1699736400@fotoclubeparaty.com
SUMMARY:2ª Reunião Primavera 2023
DESCRIPTION:Neste encontro\, abordaremos os aspectos técnicos sobre o movimento na fotografia! Também contaremos com vários convidados especiais! Venha participar!
URL:https://fotoclubeparaty.com/event/2a-reuniao-primavera-2023/
LOCATION:Café Café\, Rua Comendador José Luiz\, 3\, Paraty\, Rio de Janeiro\, 23970-000\, Brasil
CATEGORIES:Encontros Mensais
ATTACH;FMTTYPE=image/jpeg:https://fotoclubeparaty.com/wp-content/uploads/2023/09/euamoparaty_lote11_web24082020@fotosincriveis.com_.br-535.jpg
ORGANIZER;CN="Fotos Incr%C3%ADveis":MAILTO:fotoclubeparatyoficial@gmail.com
END:VEVENT
END:VCALENDAR